BEGIN:VCALENDAR
VERSION:2.0
PRODID:-//The Association for Industrial Archaeology - ECPv6.15.17//NONSGML v1.0//EN
CALSCALE:GREGORIAN
METHOD:PUBLISH
X-WR-CALNAME:The Association for Industrial Archaeology
X-ORIGINAL-URL:https://industrial-archaeology.org
X-WR-CALDESC:Events for The Association for Industrial Archaeology
REFRESH-INTERVAL;VALUE=DURATION:PT1H
X-Robots-Tag:noindex
X-PUBLISHED-TTL:PT1H
BEGIN:VTIMEZONE
TZID:Europe/London
BEGIN:DAYLIGHT
TZOFFSETFROM:+0000
TZOFFSETTO:+0100
TZNAME:BST
DTSTART:20250330T010000
END:DAYLIGHT
BEGIN:STANDARD
TZOFFSETFROM:+0100
TZOFFSETTO:+0000
TZNAME:GMT
DTSTART:20251026T010000
END:STANDARD
BEGIN:DAYLIGHT
TZOFFSETFROM:+0000
TZOFFSETTO:+0100
TZNAME:BST
DTSTART:20260329T010000
END:DAYLIGHT
BEGIN:STANDARD
TZOFFSETFROM:+0100
TZOFFSETTO:+0000
TZNAME:GMT
DTSTART:20261025T010000
END:STANDARD
BEGIN:DAYLIGHT
TZOFFSETFROM:+0000
TZOFFSETTO:+0100
TZNAME:BST
DTSTART:20270328T010000
END:DAYLIGHT
BEGIN:STANDARD
TZOFFSETFROM:+0100
TZOFFSETTO:+0000
TZNAME:GMT
DTSTART:20271031T010000
END:STANDARD
END:VTIMEZONE
BEGIN:VEVENT
DTSTART;TZID=Europe/London:20260511T193000
DTEND;TZID=Europe/London:20260511T204500
DTSTAMP:20260423T154207
CREATED:20260423T111403Z
LAST-MODIFIED:20260423T111503Z
UID:11244-1778527800-1778532300@industrial-archaeology.org
SUMMARY:Cambridge IAG - Industrial Architecture as Cinematic Stage: The Sequel !
DESCRIPTION:(Re)discover how some of cinema’s most influential filmmakers adapted industrial architecture as cinematic stage! This year\, a dam and hydro-power theme as we revisit filming locations of two of cinema’s most influential filmmakers: Jean-Luc Godard and Andrey Tarkovsky. \nA hybrid-meeting format: \n\nin-person (at Cambridge Museum of Technology)\, or\nlive-online stream (remote participants will receive screenshare + audio from the venue in “listen-only” mode).\n\nE-ticket purchase and more information for both meeting options at www.museumoftechnology.com/calendar/may2026/ciag-film-night (registration for online stream will close at 13:00 BST on Monday 11 May 2026).
URL:https://industrial-archaeology.org/event/cambridge-iag-industrial-architecture-as-cinematic-stage-the-sequel/
LOCATION:Pye Building\, Cambridge Museum of Technology\, Cheddars Lane\, Cambridge\, CB5 8LD\, United Kingdom
CATEGORIES:Meeting
ORGANIZER;CN="Cambridge Industrial Archaeology Group":MAILTO:robin.chandler@btinternet.com
END:VEVENT
END:VCALENDAR